BEGIN:VCALENDAR
VERSION:2.0
PRODID:-//MC Peißenberg im ADAC e.V. - ECPv6.15.20//NONSGML v1.0//EN
CALSCALE:GREGORIAN
METHOD:PUBLISH
X-WR-CALNAME:MC Peißenberg im ADAC e.V.
X-ORIGINAL-URL:https://mc-peissenberg.de
X-WR-CALDESC:Veranstaltungen für MC Peißenberg im ADAC e.V.
REFRESH-INTERVAL;VALUE=DURATION:PT1H
X-Robots-Tag:noindex
X-PUBLISHED-TTL:PT1H
BEGIN:VTIMEZONE
TZID:UTC
BEGIN:STANDARD
TZOFFSETFROM:+0000
TZOFFSETTO:+0000
TZNAME:UTC
DTSTART:20250101T000000
END:STANDARD
END:VTIMEZONE
BEGIN:VEVENT
DTSTART;TZID=UTC:20260425T090000
DTEND;TZID=UTC:20260426T120000
DTSTAMP:20260426T014438
CREATED:20260310T174523Z
LAST-MODIFIED:20260420T170646Z
UID:3347-1777107600-1777204800@mc-peissenberg.de
SUMMARY:Trainingslager "BMX Spring Fever 2026"
DESCRIPTION:Wir veranstalten diese Jahr ein BMX Trainingslager  \nBMX Spring Fever 2026\nSa. 25.04. – So. 26.04. – 70\,-€ für beide Tage \nInkl. Mittagessen Snacks Getränke + Begleiterverpflegung gegen geringes Entgelt. \nDie Plätze sind auf 50 Teilnehmer/-innen begrenzt. \nCamping ist natürlich möglich \nSonntag 13:30 Uhr startet dann das Race zur Südbayerische ADAC BMX Meisterschaft in Peißenberg \nNebenbei gibt’s die Gelegenheit zum BMX-Flohmarkt \nBei Fragen einfach ein Mail an bmx@mc-peissenberg.de \n  \nAnmeldung unter –> https://mc-peissenberg.de/bmx/anmeldung-bmx-trainingslager/ \nDie Anmeldung ist seit 20.4.2026 nicht mehr möglich!
URL:https://mc-peissenberg.de/event/trainingslager-bmx-spring-fever-2026/
LOCATION:BMX Bahn MC Peißenberg\, alte Bergehalde\, Peißenberg\, Bayern\, 82380\, Deutschland
CATEGORIES:MC-Peissenberg
ATTACH;FMTTYPE=image/png:https://mc-peissenberg.de/wp-content/uploads/2026/03/ChatGPT-Image-1.-Maerz-2026-16_41_28.png
END:VEVENT
BEGIN:VEVENT
DTSTART;VALUE=DATE:20260426
DTEND;VALUE=DATE:20260427
DTSTAMP:20260426T014438
CREATED:20260404T080344Z
LAST-MODIFIED:20260404T083153Z
UID:3372-1777161600-1777247999@mc-peissenberg.de
SUMMARY:BMX Heimrennen in Peißenberg 2026
DESCRIPTION:Einladung zum 1. Lauf der ADAC BMX Rennserie Südbayern 2026 in Peißenberg!  \nAm 26. April 2026 ist es endlich soweit: Die Startklappe fällt für den 1. Lauf der ADAC BMX Rennserie Südbayern 2026 \nUnser BMX Track ist bereit\, wieder von schnellen Bikes\, spannenden Rennen und jeder Menge BMX-Action zum Beben gebracht zu werden. \nEgal ob Racer\, Fans\, Familien oder neugierige Zuschauer – kommt vorbei und erlebt packende Starts\, schnelle Kurven und vielleicht sogar den einen oder anderen spektakulären Zielsprint. Für gute Stimmung und Verpflegung am Streckenrand ist natürlich auch gesorgt! 😎 \nZeitplan:\n🏁 Training: ab 12:00 Uhr\n🚦 Rennstart: 13:30 Uhr \nRan ans Gate – wir freuen uns auf euch! \n  \nAnmeldung unter SportsList.eu bis 21.4.
URL:https://mc-peissenberg.de/event/bmx-heimrennen-in-peissenberg-2026/
LOCATION:BMX Bahn MC Peißenberg\, alte Bergehalde\, Peißenberg\, Bayern\, 82380\, Deutschland
CATEGORIES:MC-Peissenberg
ATTACH;FMTTYPE=image/jpeg:https://mc-peissenberg.de/wp-content/uploads/2026/04/PHOTO-2026-04-03-22-20-57-e1775289957405.jpg
END:VEVENT
END:VCALENDAR